BEGIN:VCALENDAR
VERSION:2.0
PRODID:-//Rotary Residential College - ECPv4.6.3//NONSGML v1.0//EN
CALSCALE:GREGORIAN
METHOD:PUBLISH
X-WR-CALNAME:Rotary Residential College
X-ORIGINAL-URL:http://www.rotaryresidentialcollege.com.au
X-WR-CALDESC:Events for Rotary Residential College
BEGIN:VEVENT
DTSTART;TZID=Australia/Perth:20180601T170000
DTEND;TZID=Australia/Perth:20180604T150000
DTSTAMP:20210301T074322
CREATED:20180207T010708Z
LAST-MODIFIED:20180207T010714Z
UID:1144-1527872400-1528124400@www.rotaryresidentialcollege.com.au
SUMMARY:WA Day Public Holiday Weekend
DESCRIPTION:
URL:http://www.rotaryresidentialcollege.com.au/event/wa-day-public-holiday-weekend/
END:VEVENT
END:VCALENDAR