BEGIN:VCALENDAR
VERSION:2.0
PRODID:-//Rotary Residential College - ECPv4.6.3//NONSGML v1.0//EN
CALSCALE:GREGORIAN
METHOD:PUBLISH
X-WR-CALNAME:Rotary Residential College
X-ORIGINAL-URL:http://www.rotaryresidentialcollege.com.au
X-WR-CALDESC:Events for Rotary Residential College
BEGIN:VEVENT
DTSTART;TZID=Australia/Perth:20180629T170000
DTEND;TZID=Australia/Perth:20180715T150000
DTSTAMP:20210301T073632
CREATED:20180207T010837Z
LAST-MODIFIED:20180207T010842Z
UID:1146-1530291600-1531666800@www.rotaryresidentialcollege.com.au
SUMMARY:Term 2 School Holidays
DESCRIPTION:
URL:http://www.rotaryresidentialcollege.com.au/event/term-2-school-holidays/
END:VEVENT
END:VCALENDAR