BEGIN:VCALENDAR
VERSION:2.0
PRODID:-//Rotary Residential College - ECPv4.6.3//NONSGML v1.0//EN
CALSCALE:GREGORIAN
METHOD:PUBLISH
X-WR-CALNAME:Rotary Residential College
X-ORIGINAL-URL:http://www.rotaryresidentialcollege.com.au
X-WR-CALDESC:Events for Rotary Residential College
BEGIN:VEVENT
DTSTART;TZID=Australia/Perth:20180921T170000
DTEND;TZID=Australia/Perth:20181007T150000
DTSTAMP:20210301T072036
CREATED:20180207T010936Z
LAST-MODIFIED:20180207T010943Z
UID:1148-1537549200-1538924400@www.rotaryresidentialcollege.com.au
SUMMARY:Term 3 School Holidays
DESCRIPTION:
URL:http://www.rotaryresidentialcollege.com.au/event/term-3-school-holidays/
END:VEVENT
END:VCALENDAR